BEGIN:VCALENDAR
VERSION:2.0
PRODID:-//Isabelle Delcour - ECPv6.3.5//NONSGML v1.0//EN
CALSCALE:GREGORIAN
METHOD:PUBLISH
X-ORIGINAL-URL:https://isabelledelcour.com
X-WR-CALDESC:Events for Isabelle Delcour
REFRESH-INTERVAL;VALUE=DURATION:PT1H
X-Robots-Tag:noindex
X-PUBLISHED-TTL:PT1H
BEGIN:VTIMEZONE
TZID:Europe/Helsinki
BEGIN:DAYLIGHT
TZOFFSETFROM:+0200
TZOFFSETTO:+0300
TZNAME:EEST
DTSTART:20250330T010000
END:DAYLIGHT
BEGIN:STANDARD
TZOFFSETFROM:+0300
TZOFFSETTO:+0200
TZNAME:EET
DTSTART:20251026T010000
END:STANDARD
END:VTIMEZONE
BEGIN:VEVENT
DTSTART;TZID=Europe/Helsinki:20250902T100000
DTEND;TZID=Europe/Helsinki:20251215T190000
DTSTAMP:20260423T224231
CREATED:20250823T213849Z
LAST-MODIFIED:20250823T213849Z
UID:2723-1756807200-1765825200@isabelledelcour.com
SUMMARY:Cat&Dog Osteopathic Care chez Meute Malia de septembre à décembre 2025
DESCRIPTION:Kinésithérapie\, Ostéopathie\, Revalidation canine&féline\, préparation sportive canine \nPrise en charge de l’ animal senior et à mobilité réduite\, du chien de sport\, d’assistance/de travail/d’ aide \nPrise en charge émotionnelle après exclusion par votre vétérinaire traitant et/ou spécialiste de toute cause médicale\, avec les fleurs de Bach et les synergies d’huiles essentielles Arhomani  \n2/9- 11/9- 25/9- 7/10- 24/10- 30/10- 13/11- 17/11- 25/11- 4/12- 9/12-15/12
URL:https://isabelledelcour.com/event/catdog-osteopathic-care-chez-meute-malia-de-septembre-a-decembre-2025/
LOCATION:Meute Malia\, 50 Avenue Gaston Baudoux 7181 Feluy
ATTACH;FMTTYPE=image/jpeg:https://isabelledelcour.com/wp-content/uploads/2023/08/E4155BDA-4993-48CF-B86D-62662A52B5DC.jpeg
END:VEVENT
END:VCALENDAR